BEGIN:VCALENDAR
VERSION:2.0
METHOD:PUBLISH
X-WR-CALNAME:Tenis Přerov |  Май 15 2019- Июнь 14 2019
PRODID:-//strange bird labs//Drupal iCal API//EN
BEGIN:VEVENT
DTSTAMP;VALUE=DATE-TIME:20260423T030122Z
DTSTART;VALUE=DATE-TIME:20190610T132500Z
DTEND;VALUE=DATE-TIME:20020203
UID:http://tenis-prerov.cz/ru/node/1113
URL;VALUE=URI:http://tenis-prerov.cz/ru/node/1113
SUMMARY:ZUBR CUP - MEZINÁRODNÍ TURNAJ ŽEN S DOTACÍ 25 000 USD
DESCRIPTION:n/a
END:VEVENT
END:VCALENDAR
