BEGIN:VCALENDAR
VERSION:2.0
METHOD:PUBLISH
X-WR-CALNAME:Tenis Přerov |  Декабрь 14 2018- Январь 13 2019
PRODID:-//strange bird labs//Drupal iCal API//EN
BEGIN:VEVENT
DTSTAMP;VALUE=DATE-TIME:20260424T044223Z
DTSTART;VALUE=DATE-TIME:20181214T132200Z
DTEND;VALUE=DATE-TIME:20020203
UID:http://tenis-prerov.cz/ru/node/1038
URL;VALUE=URI:http://tenis-prerov.cz/ru/node/1038
SUMMARY:TENISOVÁ EXTRALIGA 2018
DESCRIPTION:n/a
END:VEVENT
BEGIN:VEVENT
DTSTAMP;VALUE=DATE-TIME:20260424T044223Z
DTSTART;VALUE=DATE-TIME:20190105T132600Z
DTEND;VALUE=DATE-TIME:20020203
UID:http://tenis-prerov.cz/ru/node/1039
URL;VALUE=URI:http://tenis-prerov.cz/ru/node/1039
SUMMARY:Oblastní přebor Severomoravské oblasti v kategorii mladších žákyň
DESCRIPTION:n/a
END:VEVENT
BEGIN:VEVENT
DTSTAMP;VALUE=DATE-TIME:20260424T044223Z
DTSTART;VALUE=DATE-TIME:20190112T132900Z
DTEND;VALUE=DATE-TIME:20020203
UID:http://tenis-prerov.cz/ru/node/1040
URL;VALUE=URI:http://tenis-prerov.cz/ru/node/1040
SUMMARY:Celostátní turnaj starších žákyň kategorie C
DESCRIPTION:n/a
END:VEVENT
END:VCALENDAR
