BEGIN:VCALENDAR
VERSION:2.0
METHOD:PUBLISH
X-WR-CALNAME:Tenis Přerov | czerwuec 24 2016-lipiec 24 2016
PRODID:-//strange bird labs//Drupal iCal API//EN
BEGIN:VEVENT
DTSTAMP;VALUE=DATE-TIME:20260423T013318Z
DTSTART;VALUE=DATE-TIME:20160619T160000Z
DTEND;VALUE=DATE-TIME:20020203
UID:http://tenis-prerov.cz/pl/node/374
URL;VALUE=URI:http://tenis-prerov.cz/pl/node/374
SUMMARY:TÝDENNÍ TENISOVÉ SOUSTŘEDĚNÍ UMĚLCŮ A SPORTOVCŮ - AKUNA CUP - TENISOVÁ AKADEMIE PETRA HUŤKY
DESCRIPTION:n.d.
END:VEVENT
END:VCALENDAR
