BEGIN:VCALENDAR
VERSION:2.0
METHOD:PUBLISH
X-WR-CALNAME:Tenis Přerov | grudzień 22 2015-styczeń 21 2016
PRODID:-//strange bird labs//Drupal iCal API//EN
BEGIN:VEVENT
DTSTAMP;VALUE=DATE-TIME:20260424T211813Z
DTSTART;VALUE=DATE-TIME:20151222T155800Z
DTEND;VALUE=DATE-TIME:20020203
UID:http://tenis-prerov.cz/pl/node/224
URL;VALUE=URI:http://tenis-prerov.cz/pl/node/224
SUMMARY:ZLATÝ KANÁR 2015
DESCRIPTION:n.d.
END:VEVENT
END:VCALENDAR
