BEGIN:VCALENDAR
VERSION:2.0
METHOD:PUBLISH
X-WR-CALNAME:Tenis Přerov |  January 14 2019- January 21 2019
PRODID:-//strange bird labs//Drupal iCal API//EN
BEGIN:VEVENT
DTSTAMP;VALUE=DATE-TIME:20260424T080012Z
DTSTART;VALUE=DATE-TIME:20190112T132900Z
DTEND;VALUE=DATE-TIME:20020203
UID:http://tenis-prerov.cz/en/node/1040
URL;VALUE=URI:http://tenis-prerov.cz/en/node/1040
SUMMARY:Celostátní turnaj starších žákyň kategorie C
DESCRIPTION:n/a
END:VEVENT
END:VCALENDAR
