BEGIN:VCALENDAR
VERSION:2.0
METHOD:PUBLISH
X-WR-CALNAME:Tenis Přerov |  Prosinec 20 2013- Leden 19 2014
PRODID:-//strange bird labs//Drupal iCal API//EN
BEGIN:VEVENT
DTSTAMP;VALUE=DATE-TIME:20260419T160616Z
DTSTART;VALUE=DATE-TIME:20131220T170000Z
DTEND;VALUE=DATE-TIME:20131220T190000Z
UID:http://tenis-prerov.cz/cs/node/175
URL;VALUE=URI:http://tenis-prerov.cz/cs/node/175
SUMMARY:ZLATÝ KANÁR 20.12.2013 - slavnostní vyhlášení ankety magazínu Tenis o nejlepší české tenisty
DESCRIPTION:není
END:VEVENT
END:VCALENDAR
